BEGIN:VCALENDAR
VERSION:2.0
PRODID:-//ChamberMaster//Event Calendar 2.0//EN
METHOD:PUBLISH
X-PUBLISHED-TTL:P3D
REFRESH-INTERVAL:P3D
CALSCALE:GREGORIAN
BEGIN:VEVENT
DTSTART:20121209T210000Z
DTEND:20121209T230000Z
X-MICROSOFT-CDO-ALLDAYEVENT:FALSE
SUMMARY:Open House with Great Giveaways 2012
DESCRIPTION:
X-ALT-DESC;FMTTYPE=text/html:
LOCATION:8209 Brownsville Lane\, Bethany 73008
UID:e.1365.170
SEQUENCE:3
DTSTAMP:20260420T084435Z
URL:http://dev.nwokc.com/events/details/open-house-with-great-giveaways-2012-12-09-2012-170
END:VEVENT

END:VCALENDAR
