BEGIN:VCALENDAR
VERSION:2.0
PRODID:-//ChamberMaster//Event Calendar 2.0//EN
METHOD:PUBLISH
X-PUBLISHED-TTL:P3D
REFRESH-INTERVAL:P3D
CALSCALE:GREGORIAN
BEGIN:VEVENT
DTSTART:20130427T140000Z
DTEND:20130427T160000Z
X-MICROSOFT-CDO-ALLDAYEVENT:FALSE
SUMMARY:Bethany Improvement Foundation Public Meeting 2013
DESCRIPTION:Learn about plans for the Bethany Library expansion\, Bethany Depot Plaza Event Venue\, and Billboard Museum on Route 66 - and how you can get involved.
X-ALT-DESC;FMTTYPE=text/html:Learn about plans for the Bethany Library expansion\, Bethany Depot Plaza Event Venue\, and Billboard Museum on Route 66 - and how you can get involved.&nbsp\; 
LOCATION:Bethany City Council Chambers\, 6700 N. 36th\, Bethany
UID:e.1365.334
SEQUENCE:3
DTSTAMP:20260420T084433Z
URL:http://dev.nwokc.com/events/details/bethany-improvement-foundation-public-meeting-2013-04-27-2013-334
END:VEVENT

END:VCALENDAR
