BEGIN:VCALENDAR
VERSION:2.0
PRODID:-//ChamberMaster//Event Calendar 2.0//EN
METHOD:PUBLISH
X-PUBLISHED-TTL:P3D
REFRESH-INTERVAL:P3D
CALSCALE:GREGORIAN
BEGIN:VEVENT
DTSTART:20121218T173000Z
DTEND:20121218T190000Z
X-MICROSOFT-CDO-ALLDAYEVENT:FALSE
SUMMARY:2012 Annual Meeting and Christmas Luncheon
DESCRIPTION:The Northwest Chamber invites you to the Annual Meeting and Christmas Luncheon. Guests will vote on board members\, learn about different chamber committees\, and receive the 2013 Northwest Chamber program. This is a great opportunity to see how you can get involved with the Chamber in the upcoming year and find out what projects fit your interest.
X-ALT-DESC;FMTTYPE=text/html:<p>\n	The Northwest Chamber invites you to the Annual Meeting and Christmas Luncheon. Guests will vote on board members\, learn about different chamber committees\, and receive the 2013 Northwest Chamber program. This is a great opportunity to see how you can get involved with the Chamber in the upcoming year and find out what projects fit your interest.</p>\n
LOCATION:Gattitown 5833 NW Expressway Oklahoma City\, OK 73132
UID:e.1365.100
SEQUENCE:3
DTSTAMP:20260420T084926Z
URL:http://dev.nwokc.com/events/details/2012-annual-meeting-and-christmas-luncheon-12-18-2012-100
END:VEVENT

END:VCALENDAR
